Workbook

Sheet TOTAL
A1: PLANEJAMENTO FINANCEIRO
A2: MÊS | B2: VALOR ATUAL NA CONTA BANCÁRIA | C2: RECEBI | D2: GASTEI | E2: ECONOMIZEI | F2: META PARA ECONOMIZAR/MÊS | G2: VIAGEM (OBJETIVO)
A3: JANEIRO | C3: =JAN!B1+JAN!B2 -> 0 | D3: =JAN!I34 -> 0 | E3: =JAN!I35 -> 0 | F3: =META!D3 -> 0
A4: FEVEREIRO | C4: =FEV!B1+FEV!B2 -> 0 | D4: =FEV!I34 -> 0 | E4: =FEV!I35 -> 0 | F4: =META!D4 -> 0
A5: MARÇO | C5: =MAR!B1+MAR!B2 -> 0 | D5: =MAR!I34 -> 0 | E5: =MAR!I35 -> 0 | F5: =META!D5 -> 0
A6: ABRIL | C6: =ABR!B1+ABR!B2 -> 0 | D6: =ABR!I34 -> 0 | E6: =ABR!I35 -> 0 | F6: =META!D6 -> 0
A7: MAIO | C7: =MAI!B1+MAI!B2 -> 0 | D7: =MAI!I34 -> 0 | E7: =MAI!I35 -> 0 | F7: =META!D7 -> 0
A8: JUNHO | C8: =JUN!B1+JUN!B2 -> 0 | D8: =JUN!I34 -> 0 | E8: =JUN!I35 -> 0 | F8: =META!D8 -> 0
A9: JULHO | C9: =JUL!B1+JUL!B2 -> 0 | D9: =JUL!I34 -> 0 | E9: =JUL!I35 -> 0 | F9: =META!D9 -> 0
A10: AGOSTO | C10: =AGO!B1+AGO!B2 -> 0 | D10: =AGO!I34 -> 0 | E10: =AGO!I35 -> 0 | F10: =META!D10 -> 0
A11: SETEMBRO | C11: =SET!B1+SET!B2 -> 0 | D11: =SET!I34 -> 0 | E11: =SET!I35 -> 0 | F11: =META!D11 -> 0
A12: OUTUBRO | C12: =OUT!B1+OUT!B2 -> 0 | D12: =OUT!I34 -> 0 | E12: =OUT!I35 -> 0 | F12: =META!D12 -> 0
A13: NOVEMBRO | C13: =NOV!B1+NOV!B2 -> 0 | D13: =NOV!I34 -> 0 | E13: =NOV!I35 -> 0 | F13: =META!D13 -> 0
A14: DEZEMBRO | C14: =DEZ!B1+DEZ!B2 -> 0 | D14: =DEZ!I34 -> 0 | E14: =DEZ!I35 -> 0 | F14: =META!D14 -> 0
A15: TOTAL: | B15: =B3 -> 0 | C15: =SUM(C3:C14) -> 0 | D15: =SUM(D3:D14) -> 0 | E15: =SUM(E3:E14) -> 0 | F15: =SUM(F3:F14) -> 0 | G15: =G3 -> 0 | H15: TOTAL QUE FALTA PARA O OBJETIVO FINAL: | I15: =G15-B15-E15 -> 0

Sheet META
A1: META DE ECONOMIA
A2: MÊS | B2: QUANTO ECONOMIZEI | C2: META | D2: RESULTADO | I2: DICA: Para estipular sua meta, você precisa ter ideia da sua média mensal de gastos e entender quanto sobra do seu salário depois que você pagou tudo que tinha que pagar. Depois disso, você precisa fazer um cálculo em perspectiva: Se seu objetivo é viajar daqui a um ano, quanto você precisa economizar por mês (dentro da sua realidade atual de gastos) pra conseguir atingir seu valor objetivo final? Só assim é possível determinar um valor para ser sua meta: QUANTO VOCÊ PRECISA ECONOMIZAR POR MÊS PARA ATINGIR SEU OBJETIVO FINAL? Estipule um valor que você acha que consegue economizar se cortar todas as futilidades da sua vida (não estipule um valor baixo demais perto do que você já sabe que consegue economizar, e nem um valor alto demais que você sabe que nunca vai atingir). Determine um valor real e alcançável, que te estimule e motive a cortar futilidades.
A3: JANEIRO | B3: =TOTAL!D3 -> 0 | D3: =C3-B3 -> 0
A4: FEVEREIRO | B4: =TOTAL!D4 -> 0 | D4: =C4-B4 -> 0
A5: MARÇO | B5: =TOTAL!D5 -> 0 | D5: =C5-B5 -> 0
A6: ABRIL | B6: =TOTAL!D6 -> 0 | D6: =C6-B6 -> 0
A7: MAIO | B7: =TOTAL!D7 -> 0 | D7: =C7-B7 -> 0
A8: JUNHO | B8: =TOTAL!D8 -> 0 | D8: =C8-B8 -> 0
A9: JULHO | B9: =TOTAL!D9 -> 0 | D9: =C9-B9 -> 0
A10: AGOSTO | B10: =TOTAL!D10 -> 0 | D10: =C10-B10 -> 0
A11: SETEMBRO | B11: =TOTAL!D11 -> 0 | D11: =C11-B11 -> 0
A12: OUTUBRO | B12: =TOTAL!D12 -> 0 | D12: =C12-B12 -> 0
A13: NOVEMBRO | B13: =TOTAL!D13 -> 0 | D13: =C13-B13 -> 0
A14: DEZEMBRO | B14: =TOTAL!D14 -> 0 | D14: =C14-B14 -> 0
A15: TOTAL: | B15: =SUM(B3:B14) -> 0 | C15: =SUM(C3:C14) -> 0 | D15: =SUM(D3:D14) -> 0

Sheet JAN
A1: SALÁRIO: | C1: JANEIRO
A2: RENDA EXTRA
A4: Gastos Fixos | D4: Supermercado | G4: Comer Fora | K4: Outros
A5: O QUÊ? | B5: VALOR | D5: DATA | E5: VALOR | G5: LOCAL | H5: DATA | I5: VALOR | K5: O QUÊ? | L5: DATA | M5: VALOR
A24: TOTAL: | B24: =SUM(B6:B23) -> 0
D31: TOTAL: | E31: =SUM(E6:E30) -> 0 | H31: TOTAL: | I31: =SUM(I6:I30) -> 0 | L31: TOTAL: | M31: =SUM(M6:M30) -> 0
F34: TOTAL MENSAL GASTO: | I34: =SUM(B24+E31+I31+M31) -> 0
F35: TOTAL ECONOMIZADO: | I35: =B1+B2-I34 -> 0

Sheet FEV
A1: SALÁRIO: | C1: FEVEREIRO
A2: RENDA EXTRA
A4: Gastos Fixos | D4: Supermercado | G4: Comer Fora | K4: Outros
A5: O QUÊ? | B5: VALOR | D5: DATA | E5: VALOR | G5: LOCAL | H5: DATA | I5: VALOR | K5: O QUÊ? | L5: DATA | M5: VALOR
A24: TOTAL: | B24: =SUM(B6:B23) -> 0
D31: TOTAL: | E31: =SUM(E6:E30) -> 0 | H31: TOTAL: | I31: =SUM(I6:I30) -> 0 | L31: TOTAL: | M31: =SUM(M6:M30) -> 0
F34: TOTAL MENSAL GASTO: | I34: =SUM(B24+E31+I31+M31) -> 0
F35: TOTAL ECONOMIZADO: | I35: =B1+B2-I34 -> 0

Sheet MAR
A1: SALÁRIO: | C1: MARÇO
A2: RENDA EXTRA
A4: Gastos Fixos | D4: Supermercado | G4: Comer Fora | K4: Outros
A5: O QUÊ? | B5: VALOR | D5: DATA | E5: VALOR | G5: LOCAL | H5: DATA | I5: VALOR | K5: O QUÊ? | L5: DATA | M5: VALOR
A24: TOTAL: | B24: =SUM(B6:B23) -> 0
D31: TOTAL: | E31: =SUM(E6:E30) -> 0 | H31: TOTAL: | I31: =SUM(I6:I30) -> 0 | L31: TOTAL: | M31: =SUM(M6:M30) -> 0
F34: TOTAL MENSAL GASTO: | I34: =SUM(B24+E31+I31+M31) -> 0
F35: TOTAL ECONOMIZADO: | I35: =B1+B2-I34 -> 0

Sheet ABR
A1: SALÁRIO: | C1: ABRIL
A2: RENDA EXTRA
A4: Gastos Fixos | D4: Supermercado | G4: Comer Fora | K4: Outros
A5: O QUÊ? | B5: VALOR | D5: DATA | E5: VALOR | G5: LOCAL | H5: DATA | I5: VALOR | K5: O QUÊ? | L5: DATA | M5: VALOR
A24: TOTAL: | B24: =SUM(B6:B23) -> 0
D31: TOTAL: | E31: =SUM(E6:E30) -> 0 | H31: TOTAL: | I31: =SUM(I6:I30) -> 0 | L31: TOTAL: | M31: =SUM(M6:M30) -> 0
F34: TOTAL MENSAL GASTO: | I34: =SUM(B24+E31+I31+M31) -> 0
F35: TOTAL ECONOMIZADO: | I35: =B1+B2-I34 -> 0

Sheet MAI
A1: SALÁRIO: | C1: MAIO
A2: RENDA EXTRA
A4: Gastos Fixos | D4: Supermercado | G4: Comer Fora | K4: Outros
A5: O QUÊ? | B5: VALOR | D5: DATA | E5: VALOR | G5: LOCAL | H5: DATA | I5: VALOR | K5: O QUÊ? | L5: DATA | M5: VALOR
A24: TOTAL: | B24: =SUM(B6:B23) -> 0
D31: TOTAL: | E31: =SUM(E6:E30) -> 0 | H31: TOTAL: | I31: =SUM(I6:I30) -> 0 | L31: TOTAL: | M31: =SUM(M6:M30) -> 0
F34: TOTAL MENSAL GASTO: | I34: =SUM(B24+E31+I31+M31) -> 0
F35: TOTAL ECONOMIZADO: | I35: =B1+B2-I34 -> 0

Sheet JUN
A1: SALÁRIO: | C1: JUNHO
A2: RENDA EXTRA
A4: Gastos Fixos | D4: Supermercado | G4: Comer Fora | K4: Outros
A5: O QUÊ? | B5: VALOR | D5: DATA | E5: VALOR | G5: LOCAL | H5: DATA | I5: VALOR | K5: O QUÊ? | L5: DATA | M5: VALOR
A24: TOTAL: | B24: =SUM(B6:B23) -> 0
D31: TOTAL: | E31: =SUM(E6:E30) -> 0 | H31: TOTAL: | I31: =SUM(I6:I30) -> 0 | L31: TOTAL: | M31: =SUM(M6:M30) -> 0
F34: TOTAL MENSAL GASTO: | I34: =SUM(B24+E31+I31+M31) -> 0
F35: TOTAL ECONOMIZADO: | I35: =B1+B2-I34 -> 0

Sheet JUL
A1: SALÁRIO: | C1: JULHO
A2: RENDA EXTRA
A4: Gastos Fixos | D4: Supermercado | G4: Comer Fora | K4: Outros
A5: O QUÊ? | B5: VALOR | D5: DATA | E5: VALOR | G5: LOCAL | H5: DATA | I5: VALOR | K5: O QUÊ? | L5: DATA | M5: VALOR
A24: TOTAL: | B24: =SUM(B6:B23) -> 0
D31: TOTAL: | E31: =SUM(E6:E30) -> 0 | H31: TOTAL: | I31: =SUM(I6:I30) -> 0 | L31: TOTAL: | M31: =SUM(M6:M30) -> 0
F34: TOTAL MENSAL GASTO: | I34: =SUM(B24+E31+I31+M31) -> 0
F35: TOTAL ECONOMIZADO: | I35: =B1+B2-I34 -> 0

Sheet AGO
A1: SALÁRIO: | C1: AGOSTO
A2: RENDA EXTRA
A4: Gastos Fixos | D4: Supermercado | G4: Comer Fora | K4: Outros
A5: O QUÊ? | B5: VALOR | D5: DATA | E5: VALOR | G5: LOCAL | H5: DATA | I5: VALOR | K5: O QUÊ? | L5: DATA | M5: VALOR
A24: TOTAL: | B24: =SUM(B6:B23) -> 0
D31: TOTAL: | E31: =SUM(E6:E30) -> 0 | H31: TOTAL: | I31: =SUM(I6:I30) -> 0 | L31: TOTAL: | M31: =SUM(M6:M30) -> 0
F34: TOTAL MENSAL GASTO: | I34: =SUM(B24+E31+I31+M31) -> 0
F35: TOTAL ECONOMIZADO: | I35: =B1+B2-I34 -> 0

Sheet SET
A1: SALÁRIO: | C1: SETEMBRO
A2: RENDA EXTRA
A4: Gastos Fixos | D4: Supermercado | G4: Comer Fora | K4: Outros
A5: O QUÊ? | B5: VALOR | D5: DATA | E5: VALOR | G5: LOCAL | H5: DATA | I5: VALOR | K5: O QUÊ? | L5: DATA | M5: VALOR
A24: TOTAL: | B24: =SUM(B6:B23) -> 0
D31: TOTAL: | E31: =SUM(E6:E30) -> 0 | H31: TOTAL: | I31: =SUM(I6:I30) -> 0 | L31: TOTAL: | M31: =SUM(M6:M30) -> 0
F34: TOTAL MENSAL GASTO: | I34: =SUM(B24+E31+I31+M31) -> 0
F35: TOTAL ECONOMIZADO: | I35: =B1+B2-I34 -> 0

Sheet OUT
A1: SALÁRIO: | C1: OUTUBRO
A2: RENDA EXTRA
A4: Gastos Fixos | D4: Supermercado | G4: Comer Fora | K4: Outros
A5: O QUÊ? | B5: VALOR | D5: DATA | E5: VALOR | G5: LOCAL | H5: DATA | I5: VALOR | K5: O QUÊ? | L5: DATA | M5: VALOR
A24: TOTAL: | B24: =SUM(B6:B23) -> 0
D31: TOTAL: | E31: =SUM(E6:E30) -> 0 | H31: TOTAL: | I31: =SUM(I6:I30) -> 0 | L31: TOTAL: | M31: =SUM(M6:M30) -> 0
F34: TOTAL MENSAL GASTO: | I34: =SUM(B24+E31+I31+M31) -> 0
F35: TOTAL ECONOMIZADO: | I35: =B1+B2-I34 -> 0

Sheet NOV
A1: SALÁRIO: | C1: NOVEMBRO
A2: RENDA EXTRA
A4: Gastos Fixos | D4: Supermercado | G4: Comer Fora | K4: Outros
A5: O QUÊ? | B5: VALOR | D5: DATA | E5: VALOR | G5: LOCAL | H5: DATA | I5: VALOR | K5: O QUÊ? | L5: DATA | M5: VALOR
A24: TOTAL: | B24: =SUM(B6:B23) -> 0
D31: TOTAL: | E31: =SUM(E6:E30) -> 0 | H31: TOTAL: | I31: =SUM(I6:I30) -> 0 | L31: TOTAL: | M31: =SUM(M6:M30) -> 0
F34: TOTAL MENSAL GASTO: | I34: =SUM(B24+E31+I31+M31) -> 0
F35: TOTAL ECONOMIZADO: | I35: =B1+B2-I34 -> 0

Sheet DEZ
A1: SALÁRIO: | C1: DEZEMBRO
A2: RENDA EXTRA
A4: Gastos Fixos | D4: Supermercado | G4: Comer Fora | K4: Outros
A5: O QUÊ? | B5: VALOR | D5: DATA | E5: VALOR | G5: LOCAL | H5: DATA | I5: VALOR | K5: O QUÊ? | L5: DATA | M5: VALOR
A24: TOTAL: | B24: =SUM(B6:B23) -> 0
D31: TOTAL: | E31: =SUM(E6:E30) -> 0 | H31: TOTAL: | I31: =SUM(I6:I30) -> 0 | L31: TOTAL: | M31: =SUM(M6:M30) -> 0
F34: TOTAL MENSAL GASTO: | I34: =SUM(B24+E31+I31+M31) -> 0
F35: TOTAL ECONOMIZADO: | I35: =B1+B2-I34 -> 0
